BEGIN:VCALENDAR
VERSION:2.0
PRODID:-//jEvents 2.0 for Joomla//EN
CALSCALE:GREGORIAN
METHOD:PUBLISH
BEGIN:VTIMEZONE
TZID:Europe/Berlin
BEGIN:STANDARD
DTSTART:20191027T020000
RDATE:20200329T030000
TZOFFSETFROM:+0200
TZOFFSETTO:+0100
TZNAME:Europe/Berlin CET
END:STANDARD
BEGIN:STANDARD
DTSTART:20201025T020000
RDATE:20210328T030000
TZOFFSETFROM:+0200
TZOFFSETTO:+0100
TZNAME:Europe/Berlin CET
END:STANDARD
BEGIN:DAYLIGHT
DTSTART:20190523T180000
RDATE:20191027T020000
TZOFFSETFROM:+0100
TZOFFSETTO:+0200
TZNAME:Europe/Berlin CEST
END:DAYLIGHT
BEGIN:DAYLIGHT
DTSTART:20200329T030000
RDATE:20201025T020000
TZOFFSETFROM:+0100
TZOFFSETTO:+0200
TZNAME:Europe/Berlin CEST
END:DAYLIGHT
END:VTIMEZONE
BEGIN:VEVENT
UID:00d74dd0f6e1a0ed4de32d7194891bc8
CATEGORIES:DEFAULT
CREATED:20200520T120952
SUMMARY:Gedenkfeier 100 Jahre Turnerdenkmal
DESCRIPTION:Gedenkfeier anl. 100 Jahre Turnerdenkmal\nWegen Corona findet keine öffentl
 iche Veranstaltung statt, nur der Vorstand trifft sich und wird einen Kranz
  am Denkmal niederlegen.\n \nS. Wolf\n
X-ALT-DESC;FMTTYPE=text/html:<p>Gedenkfeier anl. 100 Jahre Turnerdenkmal</p><p>Wegen Corona findet keine
  öffentliche Veranstaltung statt, nur der Vorstand trifft sich und wird ein
 en Kranz am Denkmal niederlegen.</p><p>&nbsp;</p><p>S. Wolf</p>
DTSTAMP:20260424T125856
DTSTART;TZID=Europe/Berlin:20200523T180000
DTEND;TZID=Europe/Berlin:20200523T183000
SEQUENCE:0
TRANSP:OPAQUE
END:VEVENT
END:VCALENDAR