BEGIN:VCALENDAR
VERSION:2.0
PRODID:-//jEvents 2.0 for Joomla//EN
CALSCALE:GREGORIAN
METHOD:PUBLISH
BEGIN:VTIMEZONE
TZID:Europe/Berlin
BEGIN:STANDARD
DTSTART:20191027T020000
RDATE:20200329T030000
TZOFFSETFROM:+0200
TZOFFSETTO:+0100
TZNAME:Europe/Berlin CET
END:STANDARD
BEGIN:STANDARD
DTSTART:20201025T020000
RDATE:20210328T030000
TZOFFSETFROM:+0200
TZOFFSETTO:+0100
TZNAME:Europe/Berlin CET
END:STANDARD
BEGIN:DAYLIGHT
DTSTART:20190812T180000
RDATE:20191027T020000
TZOFFSETFROM:+0100
TZOFFSETTO:+0200
TZNAME:Europe/Berlin CEST
END:DAYLIGHT
BEGIN:DAYLIGHT
DTSTART:20200329T030000
RDATE:20201025T020000
TZOFFSETFROM:+0100
TZOFFSETTO:+0200
TZNAME:Europe/Berlin CEST
END:DAYLIGHT
END:VTIMEZONE
BEGIN:VEVENT
UID:16c43c22ac7abd9337182b1675a0aed5
CATEGORIES:DEFAULT
CREATED:20200804T094043
SUMMARY:Erw. Vorstandsitzung
DESCRIPTION:<p>Erweitertee Vorstandsitzung (Vorstand, Abteilungsleiter, Übungsleiter)</
 p><p>Mi, 12.8.2020, 18:00 Uhr</p><p>Vereinsheim des TV , Terrasse</p>
DTSTAMP:20260424T142739
DTSTART;TZID=Europe/Berlin:20200812T180000
DTEND;TZID=Europe/Berlin:20200812T200000
SEQUENCE:0
TRANSP:OPAQUE
END:VEVENT
END:VCALENDAR