BEGIN:VCALENDAR
VERSION:2.0
PRODID:-//jEvents 2.0 for Joomla//EN
CALSCALE:GREGORIAN
METHOD:PUBLISH
BEGIN:VTIMEZONE
TZID:Europe/Berlin
END:VTIMEZONE
BEGIN:VEVENT
UID:54875d985ff8f67979acf104cf688708
CATEGORIES:DEFAULT
CREATED:20220116T174020
SUMMARY:Crosslauf
DESCRIPTION:<p>Crosslauf in Wetter-Oberrosphe, Sportplatz</p><p>über1.300-7.500 m</p><p
 ><a href="http://www.tv05-wetter.de/index.php/leichtathtletik/ausschreibung
 ">http://www.tv05-wetter.de/index.php/leichtathtletik/ausschreibung</a></p>
DTSTAMP:20260424T164319
DTSTART;TZID=Europe/Berlin:20221217T130000
SEQUENCE:0
TRANSP:OPAQUE
END:VEVENT
END:VCALENDAR