BEGIN:VCALENDAR
VERSION:2.0
PRODID:-//jEvents 2.0 for Joomla//EN
CALSCALE:GREGORIAN
METHOD:PUBLISH
BEGIN:VTIMEZONE
TZID:Europe/Berlin
END:VTIMEZONE
BEGIN:VEVENT
UID:3400b7591aa3440e991d6eb0a637d93c
CATEGORIES:DEFAULT
CREATED:20220622T215211
SUMMARY:Mitgliederversammlung
DESCRIPTION:Einladung zur jährlichen Mitgliederversammlung!\n \nOrt: Vereinsheim des TV
  Wetter, Im Stettebach, 35083 Wetter\n
X-ALT-DESC;FMTTYPE=text/html:<p>Einladung zur jährlichen Mitgliederversammlung!</p><p>&nbsp;</p><p>Ort: 
 Vereinsheim des TV Wetter, Im Stettebach, 35083 Wetter</p>
DTSTAMP:20260419T222607
DTSTART;TZID=Europe/Berlin:20220625T180000
DTEND;TZID=Europe/Berlin:20220625T200000
SEQUENCE:0
TRANSP:OPAQUE
END:VEVENT
END:VCALENDAR