BEGIN:VCALENDAR
VERSION:2.0
PRODID:-//jEvents 2.0 for Joomla//EN
CALSCALE:GREGORIAN
METHOD:PUBLISH
BEGIN:VTIMEZONE
TZID:Europe/Berlin
END:VTIMEZONE
BEGIN:VEVENT
UID:61b297803b2c164fada24cfb68d9ce7d
CATEGORIES:DEFAULT
CREATED:20220928T163512
SUMMARY:Bied-Wett Volleys : SG Jonannesberg
DESCRIPTION:Oberliga-Volleyball\nBiedenkopf-Wetter Volleys : SG Johannesberg\nOrt: Spor
 thalle der Wollenbergschule Wetter, Weinstr.,\n
X-ALT-DESC;FMTTYPE=text/html:<p>Oberliga-Volleyball</p><p>Biedenkopf-Wetter Volleys : SG Johannesberg</p
 ><p>Ort: Sporthalle der Wollenbergschule Wetter, Weinstr.,</p>
DTSTAMP:20260425T203026
DTSTART;TZID=Europe/Berlin:20221217T193000
SEQUENCE:0
TRANSP:OPAQUE
END:VEVENT
END:VCALENDAR