BEGIN:VCALENDAR
VERSION:2.0
PRODID:-//jEvents 2.0 for Joomla//EN
CALSCALE:GREGORIAN
METHOD:PUBLISH
BEGIN:VTIMEZONE
TZID:Europe/Berlin
BEGIN:STANDARD
DTSTART:20171221T131000
RDATE:20180325T030000
TZOFFSETFROM:+0200
TZOFFSETTO:+0100
TZNAME:Europe/Berlin CET
END:STANDARD
BEGIN:STANDARD
DTSTART:20181028T020000
RDATE:20190331T030000
TZOFFSETFROM:+0200
TZOFFSETTO:+0100
TZNAME:Europe/Berlin CET
END:STANDARD
BEGIN:STANDARD
DTSTART:20191027T020000
RDATE:20200329T030000
TZOFFSETFROM:+0200
TZOFFSETTO:+0100
TZNAME:Europe/Berlin CET
END:STANDARD
BEGIN:STANDARD
DTSTART:20201025T020000
RDATE:20210328T030000
TZOFFSETFROM:+0200
TZOFFSETTO:+0100
TZNAME:Europe/Berlin CET
END:STANDARD
BEGIN:DAYLIGHT
DTSTART:20180325T030000
RDATE:20181028T020000
TZOFFSETFROM:+0100
TZOFFSETTO:+0200
TZNAME:Europe/Berlin CEST
END:DAYLIGHT
BEGIN:DAYLIGHT
DTSTART:20190331T030000
RDATE:20191027T020000
TZOFFSETFROM:+0100
TZOFFSETTO:+0200
TZNAME:Europe/Berlin CEST
END:DAYLIGHT
BEGIN:DAYLIGHT
DTSTART:20200329T030000
RDATE:20201025T020000
TZOFFSETFROM:+0100
TZOFFSETTO:+0200
TZNAME:Europe/Berlin CEST
END:DAYLIGHT
END:VTIMEZONE
BEGIN:VEVENT
UID:96fba2735ab94a1ef8279b2cb48fa5a2
CATEGORIES:DEFAULT
CREATED:20180207T175817
SUMMARY:Crosslauf mit Kreismeisterschaft
DESCRIPTION:Crosslauf über versch. Strecken über Wald- und Feldwege\nrund um den Sportp
 latz in Oberrosphe\n \nNäheres in der Ausschreibung der Leichtahtleten (ind
 ex.php/leichtathtletik/ausschreibung)\n
X-ALT-DESC;FMTTYPE=text/html:<p>Crosslauf &uuml;ber versch. Strecken &uuml;ber Wald- und Feldwege</p><p>
 rund um den Sportplatz in Oberrosphe</p><p>&nbsp;</p><p><a href="http://tvw
 etter.de/index.php/leichtathtletik/ausschreibung">N&auml;heres in der Aussc
 hreibung der Leichtahtleten</a></p>
DTSTAMP:20260419T123900
DTSTART;TZID=Europe/Berlin:20181222T131000
SEQUENCE:0
TRANSP:OPAQUE
END:VEVENT
END:VCALENDAR