BEGIN:VCALENDAR
VERSION:2.0
PRODID:-//jEvents 2.0 for Joomla//EN
CALSCALE:GREGORIAN
METHOD:PUBLISH
BEGIN:VTIMEZONE
TZID:Europe/Berlin
BEGIN:STANDARD
DTSTART:20171029T020000
RDATE:20180325T030000
TZOFFSETFROM:+0200
TZOFFSETTO:+0100
TZNAME:Europe/Berlin CET
END:STANDARD
BEGIN:STANDARD
DTSTART:20181028T020000
RDATE:20190331T030000
TZOFFSETFROM:+0200
TZOFFSETTO:+0100
TZNAME:Europe/Berlin CET
END:STANDARD
BEGIN:STANDARD
DTSTART:20191027T020000
RDATE:20200329T030000
TZOFFSETFROM:+0200
TZOFFSETTO:+0100
TZNAME:Europe/Berlin CET
END:STANDARD
BEGIN:STANDARD
DTSTART:20201025T020000
RDATE:20210328T030000
TZOFFSETFROM:+0200
TZOFFSETTO:+0100
TZNAME:Europe/Berlin CET
END:STANDARD
BEGIN:DAYLIGHT
DTSTART:20170822T190000
RDATE:20171029T020000
TZOFFSETFROM:+0100
TZOFFSETTO:+0200
TZNAME:Europe/Berlin CEST
END:DAYLIGHT
BEGIN:DAYLIGHT
DTSTART:20180325T030000
RDATE:20181028T020000
TZOFFSETFROM:+0100
TZOFFSETTO:+0200
TZNAME:Europe/Berlin CEST
END:DAYLIGHT
BEGIN:DAYLIGHT
DTSTART:20190331T030000
RDATE:20191027T020000
TZOFFSETFROM:+0100
TZOFFSETTO:+0200
TZNAME:Europe/Berlin CEST
END:DAYLIGHT
BEGIN:DAYLIGHT
DTSTART:20200329T030000
RDATE:20201025T020000
TZOFFSETFROM:+0100
TZOFFSETTO:+0200
TZNAME:Europe/Berlin CEST
END:DAYLIGHT
END:VTIMEZONE
BEGIN:VEVENT
UID:7a80d37c349d58b49e2b266ba3a5a185
CATEGORIES:DEFAULT
CREATED:20180605T183419
SUMMARY:Erweiterte Vorstandsitzung
DESCRIPTION:Erweiterterte Vorstandsitzung für Vorstand und Abteilungsleiter\nim Vereins
 heim des TV, Am Stettebach, Wetter\n19.00-21.00 Uhr\n
X-ALT-DESC;FMTTYPE=text/html:<p>Erweiterterte Vorstandsitzung f&uuml;r Vorstand und Abteilungsleiter</p>
 <p>im Vereinsheim des TV, Am Stettebach, Wetter</p><p>19.00-21.00 Uhr</p>
DTSTAMP:20260425T170729
DTSTART;TZID=Europe/Berlin:20180823T190000
DTEND;TZID=Europe/Berlin:20180823T210000
SEQUENCE:0
TRANSP:OPAQUE
END:VEVENT
END:VCALENDAR