BEGIN:VCALENDAR
VERSION:2.0
PRODID:-//jEvents 2.0 for Joomla//EN
CALSCALE:GREGORIAN
METHOD:PUBLISH
BEGIN:VTIMEZONE
TZID:Europe/Berlin
BEGIN:STANDARD
DTSTART:20171207T193000
RDATE:20180325T030000
TZOFFSETFROM:+0200
TZOFFSETTO:+0100
TZNAME:Europe/Berlin CET
END:STANDARD
BEGIN:STANDARD
DTSTART:20181028T020000
RDATE:20190331T030000
TZOFFSETFROM:+0200
TZOFFSETTO:+0100
TZNAME:Europe/Berlin CET
END:STANDARD
BEGIN:STANDARD
DTSTART:20191027T020000
RDATE:20200329T030000
TZOFFSETFROM:+0200
TZOFFSETTO:+0100
TZNAME:Europe/Berlin CET
END:STANDARD
BEGIN:STANDARD
DTSTART:20201025T020000
RDATE:20210328T030000
TZOFFSETFROM:+0200
TZOFFSETTO:+0100
TZNAME:Europe/Berlin CET
END:STANDARD
BEGIN:DAYLIGHT
DTSTART:20180325T030000
RDATE:20181028T020000
TZOFFSETFROM:+0100
TZOFFSETTO:+0200
TZNAME:Europe/Berlin CEST
END:DAYLIGHT
BEGIN:DAYLIGHT
DTSTART:20190331T030000
RDATE:20191027T020000
TZOFFSETFROM:+0100
TZOFFSETTO:+0200
TZNAME:Europe/Berlin CEST
END:DAYLIGHT
BEGIN:DAYLIGHT
DTSTART:20200329T030000
RDATE:20201025T020000
TZOFFSETFROM:+0100
TZOFFSETTO:+0200
TZNAME:Europe/Berlin CEST
END:DAYLIGHT
END:VTIMEZONE
BEGIN:VEVENT
UID:e553cb26cec5af8046974f43feb76737
CATEGORIES:DEFAULT
CREATED:20180825T150617
SUMMARY:BW Volleys : TG Bad Soden II Volleyball Regionalliga
DESCRIPTION:8. Spieltag Volleyball Regionalliga Südwest Frauen\n83608.12.2018TSG Bretze
 nheim : SV Steinwenden0:0 19:30SH Integrierte Gesamtschule 2 IGS()83708.12.
 2018Eintracht Frankfurt : 1. VC Wiesbaden 30:0 20:00Wolfgang-Steubing-Halle
 ()83808.12.2018Biedenkopf-Wetter-Volleys : TG Bad Soden 20:0 19:30Wollenber
 gschule()84008.12.2018VSG Saarlouis : HTG Bad Homburg0:0 19:00Jahn-Sporthal
 le()83909.12.2018TSV Stadecken-Elsheim : Eintracht Wiesbaden0:0 15:00Gymnas
 ium()
X-ALT-DESC;FMTTYPE=text/html:<p>8. Spieltag Volleyball Regionalliga S&uuml;dwest Frauen</p><table border
 ="0" style="width: 565px;" cellspacing="0" cellpadding="0"><tbody><tr class
 ="evenlistitem"><td style="text-align: center;" width="20">8</td><td style=
 "text-align: center;" width="20">36</td><td style="text-align: left;" width
 ="80">08.12.2018</td><td width="290">TSG Bretzenheim : SV Steinwenden</td><
 td style="text-align: center;" width="90">0:0</td></tr><tr class="evenlisti
 tem"><td colspan="2" style="text-align: center;">&nbsp;</td><td style="text
 -align: left;">19:30</td><td>SH Integrierte Gesamtschule 2 IGS</td><td styl
 e="text-align: center;">()</td></tr><tr class="oddlistitem"><td style="text
 -align: center;" width="20">8</td><td style="text-align: center;" width="20
 ">37</td><td style="text-align: left;" width="80">08.12.2018</td><td width=
 "290">Eintracht Frankfurt : 1. VC Wiesbaden 3</td><td style="text-align: ce
 nter;" width="90">0:0</td></tr><tr class="oddlistitem"><td colspan="2" styl
 e="text-align: center;">&nbsp;</td><td style="text-align: left;">20:00</td>
 <td>Wolfgang-Steubing-Halle</td><td style="text-align: center;">()</td></tr
 ><tr class="evenlistitem"><td style="text-align: center;" width="20">8</td>
 <td style="text-align: center;" width="20">38</td><td style="text-align: le
 ft;" width="80">08.12.2018</td><td width="290">Biedenkopf-Wetter-Volleys : 
 TG Bad Soden 2</td><td style="text-align: center;" width="90">0:0</td></tr>
 <tr class="evenlistitem"><td colspan="2" style="text-align: center;">&nbsp;
 </td><td style="text-align: left;">19:30</td><td>Wollenbergschule</td><td s
 tyle="text-align: center;">()</td></tr><tr class="oddlistitem"><td style="t
 ext-align: center;" width="20">8</td><td style="text-align: center;" width=
 "20">40</td><td style="text-align: left;" width="80">08.12.2018</td><td wid
 th="290">VSG Saarlouis : HTG Bad Homburg</td><td style="text-align: center;
 " width="90">0:0</td></tr><tr class="oddlistitem"><td colspan="2" style="te
 xt-align: center;">&nbsp;</td><td style="text-align: left;">19:00</td><td>J
 ahn-Sporthalle</td><td style="text-align: center;">()</td></tr><tr class="e
 venlistitem"><td style="text-align: center;" width="20">8</td><td style="te
 xt-align: center;" width="20">39</td><td style="text-align: left;" width="8
 0">09.12.2018</td><td width="290">TSV Stadecken-Elsheim : Eintracht Wiesbad
 en</td><td style="text-align: center;" width="90">0:0</td></tr><tr class="e
 venlistitem"><td colspan="2" style="text-align: center;">&nbsp;</td><td sty
 le="text-align: left;">15:00</td><td>Gymnasium</td><td style="text-align: c
 enter;">()</td></tr></tbody></table>
DTSTAMP:20260419T123007
DTSTART;TZID=Europe/Berlin:20181208T193000
SEQUENCE:0
TRANSP:OPAQUE
END:VEVENT
END:VCALENDAR