BEGIN:VCALENDAR
VERSION:2.0
PRODID:-//jEvents 2.0 for Joomla//EN
CALSCALE:GREGORIAN
METHOD:PUBLISH
BEGIN:VTIMEZONE
TZID:Europe/Berlin
BEGIN:STANDARD
DTSTART:20180322T193000
RDATE:20180325T030000
TZOFFSETFROM:+0200
TZOFFSETTO:+0100
TZNAME:Europe/Berlin CET
END:STANDARD
BEGIN:STANDARD
DTSTART:20181028T020000
RDATE:20190331T030000
TZOFFSETFROM:+0200
TZOFFSETTO:+0100
TZNAME:Europe/Berlin CET
END:STANDARD
BEGIN:STANDARD
DTSTART:20191027T020000
RDATE:20200329T030000
TZOFFSETFROM:+0200
TZOFFSETTO:+0100
TZNAME:Europe/Berlin CET
END:STANDARD
BEGIN:STANDARD
DTSTART:20201025T020000
RDATE:20210328T030000
TZOFFSETFROM:+0200
TZOFFSETTO:+0100
TZNAME:Europe/Berlin CET
END:STANDARD
BEGIN:DAYLIGHT
DTSTART:20180325T030000
RDATE:20181028T020000
TZOFFSETFROM:+0100
TZOFFSETTO:+0200
TZNAME:Europe/Berlin CEST
END:DAYLIGHT
BEGIN:DAYLIGHT
DTSTART:20190331T030000
RDATE:20191027T020000
TZOFFSETFROM:+0100
TZOFFSETTO:+0200
TZNAME:Europe/Berlin CEST
END:DAYLIGHT
BEGIN:DAYLIGHT
DTSTART:20200329T030000
RDATE:20201025T020000
TZOFFSETFROM:+0100
TZOFFSETTO:+0200
TZNAME:Europe/Berlin CEST
END:DAYLIGHT
END:VTIMEZONE
BEGIN:VEVENT
UID:640abd72c9de6d957328c8d9d77ff55f
CATEGORIES:DEFAULT
CREATED:20180825T151211
SUMMARY:BW Volleys : Eintracht Wiesbaden Volleyball Regionalliga
DESCRIPTION:<p>18. Spieltag Volleyball Regionalliag S&uuml;dwest Frauen</p><table borde
 r="0" style="width: 565px;" cellspacing="0" cellpadding="0"><tbody><tr clas
 s="evenlistitem"><td style="text-align: center;" width="20">18</td><td styl
 e="text-align: center;" width="20">86</td><td style="text-align: left;" wid
 th="80">23.03.2019</td><td width="290">VSG Saarlouis : SV Steinwenden</td><
 td style="text-align: center;" width="90">0:0</td></tr><tr class="evenlisti
 tem"><td colspan="2" style="text-align: center;">&nbsp;</td><td style="text
 -align: left;">19:30</td><td>Sporthalle Ensdorf</td><td style="text-align: 
 center;">()</td></tr><tr class="oddlistitem"><td style="text-align: center;
 " width="20">18</td><td style="text-align: center;" width="20">87</td><td s
 tyle="text-align: left;" width="80">23.03.2019</td><td width="290">TSV Stad
 ecken-Elsheim : HTG Bad Homburg</td><td style="text-align: center;" width="
 90">0:0</td></tr><tr class="oddlistitem"><td colspan="2" style="text-align:
  center;">&nbsp;</td><td style="text-align: left;">19:30</td><td>Gymnasium<
 /td><td style="text-align: center;">()</td></tr><tr class="evenlistitem"><t
 d style="text-align: center;" width="20">18</td><td style="text-align: cent
 er;" width="20">88</td><td style="text-align: left;" width="80">23.03.2019<
 /td><td width="290">Biedenkopf-Wetter-Volleys : Eintracht Wiesbaden</td><td
  style="text-align: center;" width="90">0:0</td></tr><tr class="evenlistite
 m"><td colspan="2" style="text-align: center;">&nbsp;</td><td style="text-a
 lign: left;">19:30</td><td>Wollenbergschule</td><td style="text-align: cent
 er;">()</td></tr><tr class="oddlistitem"><td style="text-align: center;" wi
 dth="20">18</td><td style="text-align: center;" width="20">89</td><td style
 ="text-align: left;" width="80">23.03.2019</td><td width="290">Eintracht Fr
 ankfurt : TG Bad Soden 2</td><td style="text-align: center;" width="90">0:0
 </td></tr><tr class="oddlistitem"><td colspan="2" style="text-align: center
 ;">&nbsp;</td><td style="text-align: left;">19:30</td><td>Wolfgang-Steubing
 -Halle</td><td style="text-align: center;">()</td></tr><tr class="evenlisti
 tem"><td style="text-align: center;" width="20">18</td><td style="text-alig
 n: center;" width="20">90</td><td style="text-align: left;" width="80">23.0
 3.2019</td><td width="290">TSG Bretzenheim : 1. VC Wiesbaden 3</td><td styl
 e="text-align: center;" width="90">0:0</td></tr><tr class="evenlistitem"><t
 d colspan="2" style="text-align: center;">&nbsp;</td><td style="text-align:
  left;">19:30</td><td>SH Integrierte Gesamtschule 2 IGS</td><td style="text
 -align: center;">()</td></tr></tbody></table>
DTSTAMP:20260425T125336
DTSTART;TZID=Europe/Berlin:20190323T193000
SEQUENCE:0
TRANSP:OPAQUE
END:VEVENT
END:VCALENDAR