BEGIN:VCALENDAR
VERSION:2.0
PRODID:-//jEvents 2.0 for Joomla//EN
CALSCALE:GREGORIAN
METHOD:PUBLISH
BEGIN:VTIMEZONE
TZID:Europe/Berlin
BEGIN:STANDARD
DTSTART:20171029T020000
RDATE:20180325T030000
TZOFFSETFROM:+0200
TZOFFSETTO:+0100
TZNAME:Europe/Berlin CET
END:STANDARD
BEGIN:STANDARD
DTSTART:20181028T020000
RDATE:20190331T030000
TZOFFSETFROM:+0200
TZOFFSETTO:+0100
TZNAME:Europe/Berlin CET
END:STANDARD
BEGIN:STANDARD
DTSTART:20191027T020000
RDATE:20200329T030000
TZOFFSETFROM:+0200
TZOFFSETTO:+0100
TZNAME:Europe/Berlin CET
END:STANDARD
BEGIN:STANDARD
DTSTART:20201025T020000
RDATE:20210328T030000
TZOFFSETFROM:+0200
TZOFFSETTO:+0100
TZNAME:Europe/Berlin CET
END:STANDARD
BEGIN:DAYLIGHT
DTSTART:20171018T180000
RDATE:20171029T020000
TZOFFSETFROM:+0100
TZOFFSETTO:+0200
TZNAME:Europe/Berlin CEST
END:DAYLIGHT
BEGIN:DAYLIGHT
DTSTART:20180325T030000
RDATE:20181028T020000
TZOFFSETFROM:+0100
TZOFFSETTO:+0200
TZNAME:Europe/Berlin CEST
END:DAYLIGHT
BEGIN:DAYLIGHT
DTSTART:20190331T030000
RDATE:20191027T020000
TZOFFSETFROM:+0100
TZOFFSETTO:+0200
TZNAME:Europe/Berlin CEST
END:DAYLIGHT
BEGIN:DAYLIGHT
DTSTART:20200329T030000
RDATE:20201025T020000
TZOFFSETFROM:+0100
TZOFFSETTO:+0200
TZNAME:Europe/Berlin CEST
END:DAYLIGHT
END:VTIMEZONE
BEGIN:VEVENT
UID:905223053bb583d2e2842e0908429fcf
CATEGORIES:DEFAULT
CREATED:20180911T150459
SUMMARY:Einladung zu 180 Jahre VMGV Orpheus Wetter
DESCRIPTION: Von Fr, 19.10.2018 bis So, 21.10.2018 begeht der VMGV Orpheus1838 Wetter e
 .V. (Männergesangverein) sein 180-jähriges Bestehen.\nDer TV ist mit einer 
 Abordnung zum Gedenken der Verstorbenen am 19.10. um 18:00 Uhr am Ehrenmal 
 am Alten Friedhof eingeladen sowie zum anschließenden Festkommers um 19:00 
 Uhr in die Stadthalle Wetter.\nZum Ehrenmal sind alle Mitglieder des TV her
 zlich willkommen.\nWer für den TV am Festkommers teilhnehmen möchte, melde 
 sich bitte bis 10.10.2018  bei\nSilke Wolf (06423-4711, Diese E-Mail-Adress
 e ist vor Spambots geschützt! Zur Anzeige muss JavaScript eingeschaltet sei
 n!
				document.getElementById('cloakc61e0b72ae96ad4f4e454f3e7afe32db').inn
 erHTML = '';
				var prefix = '&#109;a' + 'i&#108;' + '&#116;o';
				var pa
 th = 'hr' + 'ef' + '=';
				var addyc61e0b72ae96ad4f4e454f3e7afe32db = 'w&#
 111;lf' + '&#64;';
				addyc61e0b72ae96ad4f4e454f3e7afe32db = addyc61e0b72a
 e96ad4f4e454f3e7afe32db + 'TV05-W&#101;tt&#101;r' + '&#46;' + 'd&#101;';
		
 		var addy_textc61e0b72ae96ad4f4e454f3e7afe32db = 'w&#111;lf' + '&#64;' + '
 TV05-W&#101;tt&#101;r' + '&#46;' + 'd&#101;';document.getElementById('cloak
 c61e0b72ae96ad4f4e454f3e7afe32db').innerHTML += '<a ' + path + '\'' + prefi
 x + ':' + addyc61e0b72ae96ad4f4e454f3e7afe32db + '\'>'+addy_textc61e0b72ae9
 6ad4f4e454f3e7afe32db+'';
		)\n
X-ALT-DESC;FMTTYPE=text/html:<p>&nbsp;Von Fr, 19.10.2018 bis So, 21.10.2018 begeht der VMGV Orpheus1838 
 Wetter e.V. (M&auml;nnergesangverein) sein 180-j&auml;hriges Bestehen.</p><
 p>Der TV ist mit einer Abordnung zum Gedenken der Verstorbenen am 19.10. um
  18:00 Uhr am Ehrenmal am Alten Friedhof eingeladen sowie zum anschlie&szli
 g;enden Festkommers um 19:00 Uhr in die Stadthalle Wetter.</p><p>Zum Ehrenm
 al sind alle Mitglieder des TV herzlich willkommen.</p><p>Wer f&uuml;r den 
 TV am Festkommers teilhnehmen m&ouml;chte, melde sich bitte bis 10.10.2018&
 nbsp; bei</p><p>Silke Wolf (06423-4711, <span id="cloakc61e0b72ae96ad4f4e45
 4f3e7afe32db">Diese E-Mail-Adresse ist vor Spambots geschützt! Zur Anzeige 
 muss JavaScript eingeschaltet sein!</span><script type='text/javascript'>
	
 			document.getElementById('cloakc61e0b72ae96ad4f4e454f3e7afe32db').innerHT
 ML = '';
				var prefix = '&#109;a' + 'i&#108;' + '&#116;o';
				var path =
  'hr' + 'ef' + '=';
				var addyc61e0b72ae96ad4f4e454f3e7afe32db = 'w&#111;
 lf' + '&#64;';
				addyc61e0b72ae96ad4f4e454f3e7afe32db = addyc61e0b72ae96a
 d4f4e454f3e7afe32db + 'TV05-W&#101;tt&#101;r' + '&#46;' + 'd&#101;';
				va
 r addy_textc61e0b72ae96ad4f4e454f3e7afe32db = 'w&#111;lf' + '&#64;' + 'TV05
 -W&#101;tt&#101;r' + '&#46;' + 'd&#101;';document.getElementById('cloakc61e
 0b72ae96ad4f4e454f3e7afe32db').innerHTML += '<a ' + path + '\'' + prefix + 
 ':' + addyc61e0b72ae96ad4f4e454f3e7afe32db + '\'>'+addy_textc61e0b72ae96ad4
 f4e454f3e7afe32db+'<\/a>';
		</script>)</p>
DTSTAMP:20260419T123948
DTSTART;TZID=Europe/Berlin:20181019T180000
SEQUENCE:0
TRANSP:OPAQUE
END:VEVENT
END:VCALENDAR